BEGIN:VCALENDAR
VERSION:2.0
PRODID:-//Twin Towns &amp; District Garden Club - ECPv6.15.20//NONSGML v1.0//EN
CALSCALE:GREGORIAN
METHOD:PUBLISH
X-ORIGINAL-URL:https://twintownsgardenclub.com
X-WR-CALDESC:Events for Twin Towns &amp; District Garden Club
REFRESH-INTERVAL;VALUE=DURATION:PT1H
X-Robots-Tag:noindex
X-PUBLISHED-TTL:PT1H
BEGIN:VTIMEZONE
TZID:Australia/Sydney
BEGIN:STANDARD
TZOFFSETFROM:+1100
TZOFFSETTO:+1000
TZNAME:AEST
DTSTART:20240406T160000
END:STANDARD
BEGIN:DAYLIGHT
TZOFFSETFROM:+1000
TZOFFSETTO:+1100
TZNAME:AEDT
DTSTART:20241005T160000
END:DAYLIGHT
BEGIN:STANDARD
TZOFFSETFROM:+1100
TZOFFSETTO:+1000
TZNAME:AEST
DTSTART:20250405T160000
END:STANDARD
BEGIN:DAYLIGHT
TZOFFSETFROM:+1000
TZOFFSETTO:+1100
TZNAME:AEDT
DTSTART:20251004T160000
END:DAYLIGHT
BEGIN:STANDARD
TZOFFSETFROM:+1100
TZOFFSETTO:+1000
TZNAME:AEST
DTSTART:20260404T160000
END:STANDARD
BEGIN:DAYLIGHT
TZOFFSETFROM:+1000
TZOFFSETTO:+1100
TZNAME:AEDT
DTSTART:20261003T160000
END:DAYLIGHT
END:VTIMEZONE
BEGIN:VEVENT
DTSTART;TZID=Australia/Sydney:20251013T083000
DTEND;TZID=Australia/Sydney:20251013T113000
DTSTAMP:20260424T103057
CREATED:20241215T115834Z
LAST-MODIFIED:20250212T191855Z
UID:671-1760344200-1760355000@twintownsgardenclub.com
SUMMARY:Celebrate Australian Gardening Week & Welcome to Our Club -  Guest Speaker Phil Dudman
DESCRIPTION:Floral Art:\nNovice: In the Pink\nSenior: Round & Round we go. \n\nMonthly Feature:  \n1. Pelargonium / Geranium\n2. Alstroemeria
URL:https://twintownsgardenclub.com/event/celebrate-australian-gardening-week-welcome-to-our-club-guest-speaker-phil-dudman/
LOCATION:TWEED HEADS CIVIC AND CULTURAL CENTRE\, Brett Street\, TWEED HEADS\, NSW\, 2485\, Australia
ORGANIZER;CN="TWIN TOWNS and DISTRICT GARDEN CLUB Inc.":MAILTO:ttgclub@gmail.com.
END:VEVENT
END:VCALENDAR