BEGIN:VCALENDAR
VERSION:2.0
PRODID:-//Twin Towns &amp; District Garden Club - ECPv6.15.20//NONSGML v1.0//EN
CALSCALE:GREGORIAN
METHOD:PUBLISH
X-ORIGINAL-URL:https://twintownsgardenclub.com
X-WR-CALDESC:Events for Twin Towns &amp; District Garden Club
REFRESH-INTERVAL;VALUE=DURATION:PT1H
X-Robots-Tag:noindex
X-PUBLISHED-TTL:PT1H
BEGIN:VTIMEZONE
TZID:Australia/Sydney
BEGIN:STANDARD
TZOFFSETFROM:+1100
TZOFFSETTO:+1000
TZNAME:AEST
DTSTART:20250405T160000
END:STANDARD
BEGIN:DAYLIGHT
TZOFFSETFROM:+1000
TZOFFSETTO:+1100
TZNAME:AEDT
DTSTART:20251004T160000
END:DAYLIGHT
BEGIN:STANDARD
TZOFFSETFROM:+1100
TZOFFSETTO:+1000
TZNAME:AEST
DTSTART:20260404T160000
END:STANDARD
BEGIN:DAYLIGHT
TZOFFSETFROM:+1000
TZOFFSETTO:+1100
TZNAME:AEDT
DTSTART:20261003T160000
END:DAYLIGHT
BEGIN:STANDARD
TZOFFSETFROM:+1100
TZOFFSETTO:+1000
TZNAME:AEST
DTSTART:20270403T160000
END:STANDARD
BEGIN:DAYLIGHT
TZOFFSETFROM:+1000
TZOFFSETTO:+1100
TZNAME:AEDT
DTSTART:20271002T160000
END:DAYLIGHT
END:VTIMEZONE
BEGIN:VEVENT
DTSTART;TZID=Australia/Sydney:20260309T083000
DTEND;TZID=Australia/Sydney:20260309T113000
DTSTAMP:20260424T090443
CREATED:20251126T055708Z
LAST-MODIFIED:20251126T055708Z
UID:757-1773045000-1773055800@twintownsgardenclub.com
SUMMARY:March 2026 General Meeting
DESCRIPTION:Floral Art: \nNovice:  Hippity- Hop! \nSenior:   A Touch of Japan \nMonthly Feature: \na. Dahlias \nb. Hibiscus
URL:https://twintownsgardenclub.com/event/march-2026-general-meeting/
LOCATION:TWEED HEADS CIVIC AND CULTURAL CENTRE\, Brett Street\, TWEED HEADS\, NSW\, 2485\, Australia
ORGANIZER;CN="TWIN TOWNS and DISTRICT GARDEN CLUB Inc.":MAILTO:ttgclub@gmail.com.
END:VEVENT
BEGIN:VEVENT
DTSTART;TZID=Australia/Sydney:20260413T083000
DTEND;TZID=Australia/Sydney:20260413T113000
DTSTAMP:20260424T090443
CREATED:20251126T055924Z
LAST-MODIFIED:20251126T060146Z
UID:759-1776069000-1776079800@twintownsgardenclub.com
SUMMARY:April 2026 General Meeting
DESCRIPTION:Floral Art:       Novice:    Colours of Autumn              Senior:     Lest We Forget \nMonthly Feature:        a. Pentas   b. Coleus
URL:https://twintownsgardenclub.com/event/april2026-general-meeting/
LOCATION:TWEED HEADS CIVIC AND CULTURAL CENTRE\, Brett Street\, TWEED HEADS\, NSW\, 2485\, Australia
ORGANIZER;CN="TWIN TOWNS and DISTRICT GARDEN CLUB Inc.":MAILTO:ttgclub@gmail.com.
END:VEVENT
BEGIN:VEVENT
DTSTART;TZID=Australia/Sydney:20260511T083000
DTEND;TZID=Australia/Sydney:20260511T113000
DTSTAMP:20260424T090443
CREATED:20251126T060119Z
LAST-MODIFIED:20260213T230831Z
UID:761-1778488200-1778499000@twintownsgardenclub.com
SUMMARY:May 2026 General Meeting
DESCRIPTION:Floral Art:          Novice:    Minimalistic – ( Maximum of 3 flowers)           Senior:   Reflections \n  \nMonthly Feature:     a. Chrysanthemums    b. Crotons
URL:https://twintownsgardenclub.com/event/may-2026-general-meeting/
LOCATION:TWEED HEADS CIVIC AND CULTURAL CENTRE\, Brett Street\, TWEED HEADS\, NSW\, 2485\, Australia
ORGANIZER;CN="TWIN TOWNS and DISTRICT GARDEN CLUB Inc.":MAILTO:ttgclub@gmail.com.
END:VEVENT
BEGIN:VEVENT
DTSTART;TZID=Australia/Sydney:20260608T083000
DTEND;TZID=Australia/Sydney:20260608T113000
DTSTAMP:20260424T090443
CREATED:20251126T060503Z
LAST-MODIFIED:20251126T060503Z
UID:767-1780907400-1780918200@twintownsgardenclub.com
SUMMARY:June 2026 General Meeting
DESCRIPTION:Floral Art:         Novice:   It’s All About the Foliage.   Senior:    Pretty in Pastel. \n  \nMonthly Feature:    a. Zygocactus  b. Collection of ferns
URL:https://twintownsgardenclub.com/event/june-2026-general-meeting/
LOCATION:TWEED HEADS CIVIC AND CULTURAL CENTRE\, Brett Street\, TWEED HEADS\, NSW\, 2485\, Australia
ORGANIZER;CN="TWIN TOWNS and DISTRICT GARDEN CLUB Inc.":MAILTO:ttgclub@gmail.com.
END:VEVENT
BEGIN:VEVENT
DTSTART;TZID=Australia/Sydney:20260613T070000
DTEND;TZID=Australia/Sydney:20260613T170000
DTSTAMP:20260424T090443
CREATED:20260213T231633Z
LAST-MODIFIED:20260213T231633Z
UID:819-1781334000-1781370000@twintownsgardenclub.com
SUMMARY:BUNNINGS BBQ FUNDRAISER
DESCRIPTION:
URL:https://twintownsgardenclub.com/event/bunnings-bbq-fundraiser/
LOCATION:Bunnings South Tweed Heads
ORGANIZER;CN="TWIN TOWNS and DISTRICT GARDEN CLUB Inc.":MAILTO:ttgclub@gmail.com.
END:VEVENT
BEGIN:VEVENT
DTSTART;TZID=Australia/Sydney:20260713T083000
DTEND;TZID=Australia/Sydney:20260713T113000
DTSTAMP:20260424T090443
CREATED:20251126T060649Z
LAST-MODIFIED:20260213T230634Z
UID:769-1783931400-1783942200@twintownsgardenclub.com
SUMMARY:July 2026 General Meeting
DESCRIPTION:Floral Art:   Novice:   Green & Gold.               Senior:    After the Bloom. \n  \nMonthly Feature:      a. Camellias    b. Poinsettias
URL:https://twintownsgardenclub.com/event/july-2026-general-meeting/
LOCATION:TWEED HEADS CIVIC AND CULTURAL CENTRE\, Brett Street\, TWEED HEADS\, NSW\, 2485\, Australia
ORGANIZER;CN="TWIN TOWNS and DISTRICT GARDEN CLUB Inc.":MAILTO:ttgclub@gmail.com.
END:VEVENT
BEGIN:VEVENT
DTSTART;TZID=Australia/Sydney:20260713T083000
DTEND;TZID=Australia/Sydney:20260713T113000
DTSTAMP:20260424T090443
CREATED:20251126T060835Z
LAST-MODIFIED:20251126T060835Z
UID:771-1783931400-1783942200@twintownsgardenclub.com
SUMMARY:August 2026 General Meeting
DESCRIPTION:Floral Art:  Novice:  Flowers with a Figurine.                 Senior:     Australiana \nMonthly Feature:      a. Azaleas    b. Bougainvillea
URL:https://twintownsgardenclub.com/event/august-2026-general-meeting/
LOCATION:TWEED HEADS CIVIC AND CULTURAL CENTRE\, Brett Street\, TWEED HEADS\, NSW\, 2485\, Australia
ORGANIZER;CN="TWIN TOWNS and DISTRICT GARDEN CLUB Inc.":MAILTO:ttgclub@gmail.com.
END:VEVENT
BEGIN:VEVENT
DTSTART;TZID=Australia/Sydney:20260914T083000
DTEND;TZID=Australia/Sydney:20260914T113000
DTSTAMP:20260424T090443
CREATED:20251126T061023Z
LAST-MODIFIED:20251126T061023Z
UID:773-1789374600-1789385400@twintownsgardenclub.com
SUMMARY:September 2026 General Meeting
DESCRIPTION:Floral Art:    Novice:  Arrangement in a Shoe              Senior:   A Movie Title (with caption) \nMonthly Feature:        a. Daisies   b. Hippeastrums (maximum 3 stems)
URL:https://twintownsgardenclub.com/event/september-2026-general-meeting/
LOCATION:TWEED HEADS CIVIC AND CULTURAL CENTRE\, Brett Street\, TWEED HEADS\, NSW\, 2485\, Australia
ORGANIZER;CN="TWIN TOWNS and DISTRICT GARDEN CLUB Inc.":MAILTO:ttgclub@gmail.com.
END:VEVENT
BEGIN:VEVENT
DTSTART;TZID=Australia/Sydney:20261012T083000
DTEND;TZID=Australia/Sydney:20261012T113000
DTSTAMP:20260424T090443
CREATED:20251126T061157Z
LAST-MODIFIED:20260213T231743Z
UID:775-1791793800-1791804600@twintownsgardenclub.com
SUMMARY:October 2026 General Meeting
DESCRIPTION:Floral Art:  Novice:  Fruit\, Foliage & Flowers.               Senior:  Stepping Out. \nMonthly Feature:    a. Pelargoniums / Geraniums        b.  Alstromeria
URL:https://twintownsgardenclub.com/event/october-2026-general-meeting/
LOCATION:TWEED HEADS CIVIC AND CULTURAL CENTRE\, Brett Street\, TWEED HEADS\, NSW\, 2485\, Australia
ORGANIZER;CN="TWIN TOWNS and DISTRICT GARDEN CLUB Inc.":MAILTO:ttgclub@gmail.com.
END:VEVENT
BEGIN:VEVENT
DTSTART;TZID=Australia/Sydney:20261109T083000
DTEND;TZID=Australia/Sydney:20261109T113000
DTSTAMP:20260424T090443
CREATED:20251126T061526Z
LAST-MODIFIED:20251126T061526Z
UID:777-1794213000-1794223800@twintownsgardenclub.com
SUMMARY:November 2026 Annual General Meeting and General Meeting
DESCRIPTION:AGM -Presentation of Annual Reports and Election of Office Bearers and Committee\, \nFloral Art:   Novice:  A Christmas tree – (maximum 40cm high)          Senior:  A Christmas Wreath. \nMonthly Feature:      a. Roses    b. Daylilies
URL:https://twintownsgardenclub.com/event/november-2026-annual-general-meeting-and-general-meeting/
LOCATION:TWEED HEADS CIVIC AND CULTURAL CENTRE\, Brett Street\, TWEED HEADS\, NSW\, 2485\, Australia
ORGANIZER;CN="TWIN TOWNS and DISTRICT GARDEN CLUB Inc.":MAILTO:ttgclub@gmail.com.
END:VEVENT
BEGIN:VEVENT
DTSTART;TZID=Australia/Sydney:20261214T120000
DTEND;TZID=Australia/Sydney:20261214T140000
DTSTAMP:20260424T090443
CREATED:20251126T061708Z
LAST-MODIFIED:20251126T061708Z
UID:779-1797249600-1797256800@twintownsgardenclub.com
SUMMARY:2026 Annual Presentation of Awards and Christmas Luncheon
DESCRIPTION:
URL:https://twintownsgardenclub.com/event/2026-annual-presentation-of-awards-and-christmas-luncheon/
LOCATION:Club Tweed\, 29 Florence Street\, TWEED HEADS\, NSW\, 2485\, Australia
ORGANIZER;CN="TWIN TOWNS and DISTRICT GARDEN CLUB Inc.":MAILTO:ttgclub@gmail.com.
END:VEVENT
END:VCALENDAR