BEGIN:VCALENDAR
VERSION:2.0
PRODID:-//Twin Towns &amp; District Garden Club - ECPv6.15.20//NONSGML v1.0//EN
CALSCALE:GREGORIAN
METHOD:PUBLISH
X-ORIGINAL-URL:https://twintownsgardenclub.com
X-WR-CALDESC:Events for Twin Towns &amp; District Garden Club
REFRESH-INTERVAL;VALUE=DURATION:PT1H
X-Robots-Tag:noindex
X-PUBLISHED-TTL:PT1H
BEGIN:VTIMEZONE
TZID:Australia/Sydney
BEGIN:STANDARD
TZOFFSETFROM:+1100
TZOFFSETTO:+1000
TZNAME:AEST
DTSTART:20240406T160000
END:STANDARD
BEGIN:DAYLIGHT
TZOFFSETFROM:+1000
TZOFFSETTO:+1100
TZNAME:AEDT
DTSTART:20241005T160000
END:DAYLIGHT
BEGIN:STANDARD
TZOFFSETFROM:+1100
TZOFFSETTO:+1000
TZNAME:AEST
DTSTART:20250405T160000
END:STANDARD
BEGIN:DAYLIGHT
TZOFFSETFROM:+1000
TZOFFSETTO:+1100
TZNAME:AEDT
DTSTART:20251004T160000
END:DAYLIGHT
BEGIN:STANDARD
TZOFFSETFROM:+1100
TZOFFSETTO:+1000
TZNAME:AEST
DTSTART:20260404T160000
END:STANDARD
BEGIN:DAYLIGHT
TZOFFSETFROM:+1000
TZOFFSETTO:+1100
TZNAME:AEDT
DTSTART:20261003T160000
END:DAYLIGHT
END:VTIMEZONE
BEGIN:VEVENT
DTSTART;TZID=Australia/Sydney:20250317T083000
DTEND;TZID=Australia/Sydney:20250317T113000
DTSTAMP:20260424T224017
CREATED:20241215T113829Z
LAST-MODIFIED:20250212T184832Z
UID:657-1742200200-1742211000@twintownsgardenclub.com
SUMMARY:General Club Meeting -please note third Monday of the month
DESCRIPTION:FLORAL ART: NOVICE: Flowers of One Colour  (foliage permitted) SENIOR: A Touch of Irish\nMONTHLY FEATURE: 1. Dahlias 2. Hibiscus
URL:https://twintownsgardenclub.com/event/general-club-meeting-please-note-third-monday-of-the-month/
LOCATION:TWEED HEADS CIVIC AND CULTURAL CENTRE\, Brett Street\, TWEED HEADS\, NSW\, 2485\, Australia
ORGANIZER;CN="TWIN TOWNS and DISTRICT GARDEN CLUB Inc.":MAILTO:ttgclub@gmail.com.
END:VEVENT
END:VCALENDAR